BEGIN:VCALENDAR
VERSION:2.0
PRODID:-//STEREOPTIK (en) - ECPv6.15.17.1//NONSGML v1.0//EN
CALSCALE:GREGORIAN
METHOD:PUBLISH
X-WR-CALNAME:STEREOPTIK (en)
X-ORIGINAL-URL:https://en.stereoptik.com
X-WR-CALDESC:Events for STEREOPTIK (en)
REFRESH-INTERVAL;VALUE=DURATION:PT1H
X-Robots-Tag:noindex
X-PUBLISHED-TTL:PT1H
BEGIN:VTIMEZONE
TZID:Europe/Paris
BEGIN:DAYLIGHT
TZOFFSETFROM:+0100
TZOFFSETTO:+0200
TZNAME:CEST
DTSTART:20160327T010000
END:DAYLIGHT
BEGIN:STANDARD
TZOFFSETFROM:+0200
TZOFFSETTO:+0100
TZNAME:CET
DTSTART:20161030T010000
END:STANDARD
BEGIN:DAYLIGHT
TZOFFSETFROM:+0100
TZOFFSETTO:+0200
TZNAME:CEST
DTSTART:20170326T010000
END:DAYLIGHT
BEGIN:STANDARD
TZOFFSETFROM:+0200
TZOFFSETTO:+0100
TZNAME:CET
DTSTART:20171029T010000
END:STANDARD
BEGIN:DAYLIGHT
TZOFFSETFROM:+0100
TZOFFSETTO:+0200
TZNAME:CEST
DTSTART:20180325T010000
END:DAYLIGHT
BEGIN:STANDARD
TZOFFSETFROM:+0200
TZOFFSETTO:+0100
TZNAME:CET
DTSTART:20181028T010000
END:STANDARD
BEGIN:DAYLIGHT
TZOFFSETFROM:+0100
TZOFFSETTO:+0200
TZNAME:CEST
DTSTART:20190331T010000
END:DAYLIGHT
BEGIN:STANDARD
TZOFFSETFROM:+0200
TZOFFSETTO:+0100
TZNAME:CET
DTSTART:20191027T010000
END:STANDARD
BEGIN:DAYLIGHT
TZOFFSETFROM:+0100
TZOFFSETTO:+0200
TZNAME:CEST
DTSTART:20200329T010000
END:DAYLIGHT
BEGIN:STANDARD
TZOFFSETFROM:+0200
TZOFFSETTO:+0100
TZNAME:CET
DTSTART:20201025T010000
END:STANDARD
BEGIN:DAYLIGHT
TZOFFSETFROM:+0100
TZOFFSETTO:+0200
TZNAME:CEST
DTSTART:20210328T010000
END:DAYLIGHT
BEGIN:STANDARD
TZOFFSETFROM:+0200
TZOFFSETTO:+0100
TZNAME:CET
DTSTART:20211031T010000
END:STANDARD
END:VTIMEZONE
BEGIN:VEVENT
DTSTART;TZID=Europe/Paris:20200512T203000
DTEND;TZID=Europe/Paris:20200512T203000
DTSTAMP:20260421T200153
CREATED:20200820T103026Z
LAST-MODIFIED:20200820T103026Z
UID:2817-1589315400-1589315400@en.stereoptik.com
SUMMARY:Congés Payés (canceled)
DESCRIPTION:
URL:https://en.stereoptik.com/date/conges-payes-canceled-3/
LOCATION:Le Parvis -Scène nationale\, Tarbes
CATEGORIES:Congés Payés
END:VEVENT
BEGIN:VEVENT
DTSTART;TZID=Europe/Paris:20200512T143000
DTEND;TZID=Europe/Paris:20200512T143000
DTSTAMP:20260421T200153
CREATED:20200820T102954Z
LAST-MODIFIED:20200820T102954Z
UID:2815-1589293800-1589293800@en.stereoptik.com
SUMMARY:Congés Payés (canceled)
DESCRIPTION:
URL:https://en.stereoptik.com/date/conges-payes-canceled-2/
LOCATION:Le Parvis -Scène nationale\, Tarbes
CATEGORIES:Congés Payés
END:VEVENT
BEGIN:VEVENT
DTSTART;TZID=Europe/Paris:20200511T203000
DTEND;TZID=Europe/Paris:20200511T203000
DTSTAMP:20260421T200153
CREATED:20200820T102909Z
LAST-MODIFIED:20200820T102909Z
UID:2812-1589229000-1589229000@en.stereoptik.com
SUMMARY:Congés Payés (canceled)
DESCRIPTION:
URL:https://en.stereoptik.com/date/conges-payes-canceled/
LOCATION:Le Parvis -Scène nationale\, Tarbes
CATEGORIES:Congés Payés
END:VEVENT
BEGIN:VEVENT
DTSTART;TZID=Europe/Paris:20200118T180000
DTEND;TZID=Europe/Paris:20200118T180000
DTSTAMP:20260421T200153
CREATED:20191218T102826Z
LAST-MODIFIED:20191218T102826Z
UID:2588-1579370400-1579370400@en.stereoptik.com
SUMMARY:Congés Payés
DESCRIPTION:
URL:https://en.stereoptik.com/date/conges-payes-37/
LOCATION:Le Trident\, Place du Général de Gaulle\, Cherbourg-Octeville\, 50100\, France
CATEGORIES:Congés Payés
END:VEVENT
BEGIN:VEVENT
DTSTART;TZID=Europe/Paris:20180325T150000
DTEND;TZID=Europe/Paris:20180325T150000
DTSTAMP:20260421T200153
CREATED:20170728T081538Z
LAST-MODIFIED:20170728T081538Z
UID:2467-1521990000-1521990000@en.stereoptik.com
SUMMARY:Congés Payés
DESCRIPTION:
URL:https://en.stereoptik.com/date/conges-payes-36/
LOCATION:Le Monfort\, Parc Georges Brassens - 106 rue Branchions\, Paris\, 75015\, France
CATEGORIES:Congés Payés
END:VEVENT
BEGIN:VEVENT
DTSTART;TZID=Europe/Paris:20180324T160000
DTEND;TZID=Europe/Paris:20180324T160000
DTSTAMP:20260421T200153
CREATED:20170728T081354Z
LAST-MODIFIED:20170728T081354Z
UID:2465-1521907200-1521907200@en.stereoptik.com
SUMMARY:Congés Payés
DESCRIPTION:
URL:https://en.stereoptik.com/date/conges-payes-35/
LOCATION:Le Monfort\, Parc Georges Brassens - 106 rue Branchions\, Paris\, 75015\, France
CATEGORIES:Congés Payés
END:VEVENT
BEGIN:VEVENT
DTSTART;TZID=Europe/Paris:20180323T190000
DTEND;TZID=Europe/Paris:20180323T190000
DTSTAMP:20260421T200153
CREATED:20170728T081225Z
LAST-MODIFIED:20170728T081225Z
UID:2463-1521831600-1521831600@en.stereoptik.com
SUMMARY:Congés Payés
DESCRIPTION:
URL:https://en.stereoptik.com/date/conges-payes-34/
LOCATION:Le Monfort\, Parc Georges Brassens - 106 rue Branchions\, Paris\, 75015\, France
CATEGORIES:Congés Payés
END:VEVENT
BEGIN:VEVENT
DTSTART;TZID=Europe/Paris:20180322T190000
DTEND;TZID=Europe/Paris:20180322T190000
DTSTAMP:20260421T200153
CREATED:20170728T081046Z
LAST-MODIFIED:20170728T081046Z
UID:2461-1521745200-1521745200@en.stereoptik.com
SUMMARY:Congés Payés
DESCRIPTION:
URL:https://en.stereoptik.com/date/conges-payes-33/
LOCATION:Le Monfort\, Parc Georges Brassens - 106 rue Branchions\, Paris\, 75015\, France
CATEGORIES:Congés Payés
END:VEVENT
BEGIN:VEVENT
DTSTART;TZID=Europe/Paris:20171119T120000
DTEND;TZID=Europe/Paris:20171119T210000
DTSTAMP:20260421T200153
CREATED:20170727T144346Z
LAST-MODIFIED:20170727T144346Z
UID:2392-1511092800-1511125200@en.stereoptik.com
SUMMARY:Congés Payés
DESCRIPTION:
URL:https://en.stereoptik.com/date/conges-payes-32/
LOCATION:Festival RomaEuropa\, Rome\, It\, Italie
CATEGORIES:Congés Payés
END:VEVENT
BEGIN:VEVENT
DTSTART;TZID=Europe/Paris:20171118T120000
DTEND;TZID=Europe/Paris:20171118T210000
DTSTAMP:20260421T200153
CREATED:20170727T144218Z
LAST-MODIFIED:20170727T144218Z
UID:2390-1511006400-1511038800@en.stereoptik.com
SUMMARY:Congés Payés
DESCRIPTION:
URL:https://en.stereoptik.com/date/conges-payes-31/
LOCATION:Festival RomaEuropa\, Rome\, It\, Italie
CATEGORIES:Congés Payés
END:VEVENT
END:VCALENDAR